BEGIN:VCALENDAR
VERSION:2.0
PRODID:-//jEvents 2.0 for Joomla//EN
CALSCALE:GREGORIAN
METHOD:PUBLISH
BEGIN:VTIMEZONE
TZID:Europe/Berlin
BEGIN:STANDARD
DTSTART:20231029T020000
RDATE:20240331T030000
TZOFFSETFROM:+0200
TZOFFSETTO:+0100
TZNAME:Europe/Berlin CET
END:STANDARD
BEGIN:STANDARD
DTSTART:20241027T020000
RDATE:20250330T030000
TZOFFSETFROM:+0200
TZOFFSETTO:+0100
TZNAME:Europe/Berlin CET
END:STANDARD
BEGIN:STANDARD
DTSTART:20251026T020000
RDATE:20260329T030000
TZOFFSETFROM:+0200
TZOFFSETTO:+0100
TZNAME:Europe/Berlin CET
END:STANDARD
BEGIN:STANDARD
DTSTART:20261025T020000
RDATE:20270328T030000
TZOFFSETFROM:+0200
TZOFFSETTO:+0100
TZNAME:Europe/Berlin CET
END:STANDARD
BEGIN:STANDARD
DTSTART:20271031T020000
RDATE:20280326T030000
TZOFFSETFROM:+0200
TZOFFSETTO:+0100
TZNAME:Europe/Berlin CET
END:STANDARD
BEGIN:STANDARD
DTSTART:20281029T020000
RDATE:20290325T030000
TZOFFSETFROM:+0200
TZOFFSETTO:+0100
TZNAME:Europe/Berlin CET
END:STANDARD
BEGIN:STANDARD
DTSTART:20291028T020000
RDATE:20300331T030000
TZOFFSETFROM:+0200
TZOFFSETTO:+0100
TZNAME:Europe/Berlin CET
END:STANDARD
BEGIN:STANDARD
DTSTART:20301027T020000
RDATE:20310330T030000
TZOFFSETFROM:+0200
TZOFFSETTO:+0100
TZNAME:Europe/Berlin CET
END:STANDARD
BEGIN:STANDARD
DTSTART:20311026T020000
RDATE:20320328T030000
TZOFFSETFROM:+0200
TZOFFSETTO:+0100
TZNAME:Europe/Berlin CET
END:STANDARD
BEGIN:DAYLIGHT
DTSTART:20231005T093000
RDATE:20231029T020000
TZOFFSETFROM:+0100
TZOFFSETTO:+0200
TZNAME:Europe/Berlin CEST
END:DAYLIGHT
BEGIN:DAYLIGHT
DTSTART:20240331T030000
RDATE:20241027T020000
TZOFFSETFROM:+0100
TZOFFSETTO:+0200
TZNAME:Europe/Berlin CEST
END:DAYLIGHT
BEGIN:DAYLIGHT
DTSTART:20250330T030000
RDATE:20251026T020000
TZOFFSETFROM:+0100
TZOFFSETTO:+0200
TZNAME:Europe/Berlin CEST
END:DAYLIGHT
BEGIN:DAYLIGHT
DTSTART:20260329T030000
RDATE:20261025T020000
TZOFFSETFROM:+0100
TZOFFSETTO:+0200
TZNAME:Europe/Berlin CEST
END:DAYLIGHT
BEGIN:DAYLIGHT
DTSTART:20270328T030000
RDATE:20271031T020000
TZOFFSETFROM:+0100
TZOFFSETTO:+0200
TZNAME:Europe/Berlin CEST
END:DAYLIGHT
BEGIN:DAYLIGHT
DTSTART:20280326T030000
RDATE:20281029T020000
TZOFFSETFROM:+0100
TZOFFSETTO:+0200
TZNAME:Europe/Berlin CEST
END:DAYLIGHT
BEGIN:DAYLIGHT
DTSTART:20290325T030000
RDATE:20291028T020000
TZOFFSETFROM:+0100
TZOFFSETTO:+0200
TZNAME:Europe/Berlin CEST
END:DAYLIGHT
BEGIN:DAYLIGHT
DTSTART:20300331T030000
RDATE:20301027T020000
TZOFFSETFROM:+0100
TZOFFSETTO:+0200
TZNAME:Europe/Berlin CEST
END:DAYLIGHT
BEGIN:DAYLIGHT
DTSTART:20310330T030000
RDATE:20311026T020000
TZOFFSETFROM:+0100
TZOFFSETTO:+0200
TZNAME:Europe/Berlin CEST
END:DAYLIGHT
END:VTIMEZONE
BEGIN:VEVENT
UID:2379f5f26d6d2f0f29698dcbe8a6adfc
CATEGORIES:Züchtertagung
CREATED:20240404T194948
SUMMARY:Züchtertagung Border Collie 2024
DESCRIPTION:Einladung zur Züchtertagung Border Collie 2024\nam Samstag, 05. Oktober 202
 4\nBeginn 09:30 Uhr\nOrt der Veranstaltung wird wieder das Sporthotel in 35
 305 Grünberg sein\nWie schon vor der letzten Tagung, möchte ich erneut beso
 nders unsere neuen Züchter einladen, um den Tag dazu zu nutzen, einige der 
 langjährigen Züchter kennenzulernen und mit ihnen in den Dialog zu kommen. 
 Ebenso sind alle angehenden Züchter, welche noch vor ihrem ersten Wurf steh
 en, herzlich eingeladen.\nAnmeldungen bitte schriftlich an  (mailto:border@
 cfbrh.de)Diese E-Mail-Adresse ist vor Spambots geschützt! Zur Anzeige muss 
 JavaScript eingeschaltet sein!
				document.getElementById('cloak17c014ea5d
 7c68606c00c97b6bec7d71').innerHTML = '';
				var prefix = '&#109;a' + 'i&#1
 08;' + '&#116;o';
				var path = 'hr' + 'ef' + '=';
				var addy17c014ea5d7
 c68606c00c97b6bec7d71 = 'b&#111;rd&#101;r' + '&#64;';
				addy17c014ea5d7c6
 8606c00c97b6bec7d71 = addy17c014ea5d7c68606c00c97b6bec7d71 + 'cfbrh' + '&#4
 6;' + 'd&#101;';
				var addy_text17c014ea5d7c68606c00c97b6bec7d71 = 'b&#11
 1;rd&#101;r' + '&#64;' + 'cfbrh' + '&#46;' + 'd&#101;';document.getElementB
 yId('cloak17c014ea5d7c68606c00c97b6bec7d71').innerHTML += '<a ' + path + '\
 '' + prefix + ':' + addy17c014ea5d7c68606c00c97b6bec7d71 + '\'>'+addy_text1
 7c014ea5d7c68606c00c97b6bec7d71+'';
		 unter Angabe des Vor- und Nachnamens
  aller anzumeldenden Personen (auch Begleitpersonen). Weitere Details zu Ta
 gungspauschale (€ 45,- pro Person) und Teilnahmebestätigung erfolgen rechtz
 eitig nach der Anmeldung.\n \nHINWEIS: \n\n - Nur schriftlich angemeldete P
 ersonen können an der Tagung teilnehmen. (Anmeldung an: Diese E-Mail-Adress
 e ist vor Spambots geschützt! Zur Anzeige muss JavaScript eingeschaltet sei
 n!
				document.getElementById('cloak25de8469aa66febfedf95b019e9122af').inn
 erHTML = '';
				var prefix = '&#109;a' + 'i&#108;' + '&#116;o';
				var pa
 th = 'hr' + 'ef' + '=';
				var addy25de8469aa66febfedf95b019e9122af = 'b&#
 111;rd&#101;r' + '&#64;';
				addy25de8469aa66febfedf95b019e9122af = addy25
 de8469aa66febfedf95b019e9122af + 'cfbrh' + '&#46;' + 'd&#101;';
				var add
 y_text25de8469aa66febfedf95b019e9122af = 'b&#111;rd&#101;r' + '&#64;' + 'cf
 brh' + '&#46;' + 'd&#101;';document.getElementById('cloak25de8469aa66febfed
 f95b019e9122af').innerHTML += '<a ' + path + '\'' + prefix + ':' + addy25de
 8469aa66febfedf95b019e9122af + '\'>'+addy_text25de8469aa66febfedf95b019e912
 2af+'';
		)\n - Der Zahlungseingang und somit die verbindliche Reservierung
  der Teilnahme muss bis zum 06.09.2024 erfolgt sein\n - Für die Teilnahme i
 st eine Zahlung einer Tagungspauschale von € 45,- pro Person zu entrichten.
  (Kontodaten werden nach Anmeldung per Mail übermittelt - nicht vor 15.08.2
 024)\n - In der Tagungspauschale sind eine Kaffeepause vor Tagungsbeginn (c
 a 9:30-10:00) und ein Mittagessen (3 Gänge Buffet) enthalten. \nKaltgetränk
 e sind während der Tagung im Tagungsraum ebenfalls vorhanden. \n - Erst bei
  Zahlungseingang erfolgt eine Bestätigung der Teilnahme per Mail.\n - Gäste
  ohne Bezahlung bzw. Anmeldung können nicht an der Tagung teilnehmen.\n - I
 m Tagungshotel (im Tagungsraum) sind eine geringe Anzahl an Hunden möglich.
  Dennoch möchte ich dazu aufrufen von dieser Möglichkeit möglichst wenig Ge
 brauch zu machen\n(Es gibt wenig bis keine Möglichkeiten das Auto ganztägig
  im Schatten zu parken!) \nZur Information bezüglich der Tagungspauschale m
 öchte ich den Hinweis geben, dass in dieser Pauschale keine Leistungen vom 
 CfBrH enthalten sind. Diese Pauschale deckt ausschließlich die Kosten für d
 en Raum mit Ausstattung und die Verpflegung ab. Aus diesem Grund kann und w
 ird der CfBrH keine Quittung über diesen Betrag ausstellen. Der Einzug durc
 h mich als Gastgeber erfolgt nur zur Vereinfachung gegenüber dem Seminarhot
 el. Sollte hierzu der Wunsch eines Steuerbelegs/Quittung bestehen, bitte ic
 h um schriftliche Information im Rahmen der Anmeldung, damit ich dies mit d
 em Seminarhotel vor Beginn der Veranstaltung besprechen und klären kann.\n 
 \nTagesordnung für die Züchtertagung am 05.10.2024 - Beginn 9:30\n-    9:30
  Eintreffen der Teilnehmer mit Begrüßungskaffee\n-    10:00 offizieller Sta
 rt - Begrüßung und Start der Tagung\n-    Kurzer Bericht des Rassebetreuers
 \n-    10:30 Vortrag\n     Was Sie schon immer über das neue Tierschutzgese
 tz wissen wollten\n     Referentin: Miriam Schöttge – Fachtierärztin für öf
 fentliches Veterinärwesen\n-    12:30 MITTAGSPAUSE\n-    13:30 Vortrag\n   
   Kastration  Ja – Nein- Vielleicht (Gedanken, Mythen und Fakten)\n     Ref
 erentin: Anja Eisfeld\n-    15:00 Erfahrungsaustausch der Neuzüchter und Zü
 chter\n-    Offene Fragerunde rund um den Alltag als Züchter und andere The
 men der Hundezucht, die uns vielleicht beschäftigen. \n\n(Gerne dürfen hier
  auch im Vorfeld Fragen eingereicht werden, die wir gerne auch neutral besp
 rechen können. Diese sendet Ihr dann bitte an Diese E-Mail-Adresse ist vor 
 Spambots geschützt! Zur Anzeige muss JavaScript eingeschaltet sein!
				doc
 ument.getElementById('cloak041e48f072df4019abfb15f249b140e3').innerHTML = '
 ';
				var prefix = '&#109;a' + 'i&#108;' + '&#116;o';
				var path = 'hr' 
 + 'ef' + '=';
				var addy041e48f072df4019abfb15f249b140e3 = 'b&#111;rd&#10
 1;r' + '&#64;';
				addy041e48f072df4019abfb15f249b140e3 = addy041e48f072df
 4019abfb15f249b140e3 + 'cfbrh' + '&#46;' + 'd&#101;';
				var addy_text041e
 48f072df4019abfb15f249b140e3 = 'b&#111;rd&#101;r' + '&#64;' + 'cfbrh' + '&#
 46;' + 'd&#101;';document.getElementById('cloak041e48f072df4019abfb15f249b1
 40e3').innerHTML += '<a ' + path + '\'' + prefix + ':' + addy041e48f072df40
 19abfb15f249b140e3 + '\'>'+addy_text041e48f072df4019abfb15f249b140e3+'';
		
 )\n -    15:30 Sonstiges\n-    ENDE voraussichtlich 16 Uhr\n(Änderungen vor
 behalten in Abhängigkeit von den Rückmeldungen bis zum Meldeschluss)\n
X-ALT-DESC;FMTTYPE=text/html:<p><strong>Einladung zur Züchtertagung Border Collie 2024</strong></p><p><s
 trong>am Samstag, 05. Oktober 2024<br />Beginn&nbsp;</strong>09:30 Uhr</p><
 p><strong>Ort der Veranstaltung</strong>&nbsp;wird wieder das Sporthotel in
  35305 Grünberg sein</p><p>Wie schon vor der letzten Tagung, möchte ich ern
 eut besonders unsere neuen Züchter einladen, um den Tag dazu zu nutzen, ein
 ige der langjährigen Züchter kennenzulernen und mit ihnen in den Dialog zu 
 kommen. Ebenso sind alle angehenden Züchter, welche noch vor ihrem ersten W
 urf stehen, herzlich eingeladen.</p><p>Anmeldungen bitte schriftlich an&nbs
 p;<a href="mailto:border@cfbrh.de"></a><span id="cloak17c014ea5d7c68606c00c
 97b6bec7d71">Diese E-Mail-Adresse ist vor Spambots geschützt! Zur Anzeige m
 uss JavaScript eingeschaltet sein!</span><script type='text/javascript'>
		
 		document.getElementById('cloak17c014ea5d7c68606c00c97b6bec7d71').innerHTM
 L = '';
				var prefix = '&#109;a' + 'i&#108;' + '&#116;o';
				var path = 
 'hr' + 'ef' + '=';
				var addy17c014ea5d7c68606c00c97b6bec7d71 = 'b&#111;r
 d&#101;r' + '&#64;';
				addy17c014ea5d7c68606c00c97b6bec7d71 = addy17c014e
 a5d7c68606c00c97b6bec7d71 + 'cfbrh' + '&#46;' + 'd&#101;';
				var addy_tex
 t17c014ea5d7c68606c00c97b6bec7d71 = 'b&#111;rd&#101;r' + '&#64;' + 'cfbrh' 
 + '&#46;' + 'd&#101;';document.getElementById('cloak17c014ea5d7c68606c00c97
 b6bec7d71').innerHTML += '<a ' + path + '\'' + prefix + ':' + addy17c014ea5
 d7c68606c00c97b6bec7d71 + '\'>'+addy_text17c014ea5d7c68606c00c97b6bec7d71+'
 <\/a>';
		</script>&nbsp;unter Angabe des Vor- und Nachnamens aller anzumel
 denden Personen (auch Begleitpersonen). Weitere Details zu Tagungspauschale
  (€ 45,- pro Person) und Teilnahmebestätigung erfolgen rechtzeitig nach der
  Anmeldung.</p><p>&nbsp;</p><p><span style="color: #ff0000;"><strong>HINWEI
 S: </strong></span></p><ul><li>Nur schriftlich angemeldete Personen können 
 an der Tagung teilnehmen. (Anmeldung an: <span id="cloak25de8469aa66febfedf
 95b019e9122af">Diese E-Mail-Adresse ist vor Spambots geschützt! Zur Anzeige
  muss JavaScript eingeschaltet sein!</span><script type='text/javascript'>

 				document.getElementById('cloak25de8469aa66febfedf95b019e9122af').innerH
 TML = '';
				var prefix = '&#109;a' + 'i&#108;' + '&#116;o';
				var path 
 = 'hr' + 'ef' + '=';
				var addy25de8469aa66febfedf95b019e9122af = 'b&#111
 ;rd&#101;r' + '&#64;';
				addy25de8469aa66febfedf95b019e9122af = addy25de8
 469aa66febfedf95b019e9122af + 'cfbrh' + '&#46;' + 'd&#101;';
				var addy_t
 ext25de8469aa66febfedf95b019e9122af = 'b&#111;rd&#101;r' + '&#64;' + 'cfbrh
 ' + '&#46;' + 'd&#101;';document.getElementById('cloak25de8469aa66febfedf95
 b019e9122af').innerHTML += '<a ' + path + '\'' + prefix + ':' + addy25de846
 9aa66febfedf95b019e9122af + '\'>'+addy_text25de8469aa66febfedf95b019e9122af
 +'<\/a>';
		</script>)</li><li>Der Zahlungseingang und somit die verbindlic
 he Reservierung der Teilnahme muss bis zum 06.09.2024 erfolgt sein</li><li>
 Für die Teilnahme ist eine Zahlung einer Tagungspauschale von € 45,- pro Pe
 rson zu entrichten. (<span style="color: #ff0000;">Kontodaten werden nach A
 nmeldung per Mail übermittelt - nicht vor 15.08.2024</span>)</li><li>In der
  Tagungspauschale sind eine Kaffeepause vor Tagungsbeginn (ca 9:30-10:00) u
 nd ein Mittagessen (3 Gänge Buffet) enthalten. <br />Kaltgetränke sind währ
 end der Tagung im Tagungsraum ebenfalls vorhanden.&nbsp;</li><li>Erst bei Z
 ahlungseingang erfolgt eine Bestätigung der Teilnahme per Mail.</li><li>Gäs
 te ohne Bezahlung bzw. Anmeldung können nicht an der Tagung teilnehmen.</li
 ><li>Im Tagungshotel (im Tagungsraum) sind eine geringe Anzahl an Hunden mö
 glich. Dennoch möchte ich dazu aufrufen von dieser Möglichkeit möglichst we
 nig Gebrauch zu machen<br />(Es gibt wenig bis keine Möglichkeiten das Auto
  ganztägig im Schatten zu parken!)</li></ul><p>&nbsp;<br />Zur Information 
 bezüglich der Tagungspauschale möchte ich den Hinweis geben, dass in dieser
  Pauschale keine Leistungen vom CfBrH enthalten sind. Diese Pauschale deckt
  ausschließlich die Kosten für den Raum mit Ausstattung und die Verpflegung
  ab. Aus diesem Grund kann und wird der CfBrH keine Quittung über diesen Be
 trag ausstellen. Der Einzug durch mich als Gastgeber erfolgt nur zur Verein
 fachung gegenüber dem Seminarhotel. Sollte hierzu der Wunsch eines Steuerbe
 legs/Quittung bestehen, bitte ich um schriftliche Information im Rahmen der
  Anmeldung, damit ich dies mit dem Seminarhotel vor Beginn der Veranstaltun
 g besprechen und klären kann.</p><p>&nbsp;</p><p><strong>Tagesordnung für d
 ie Züchtertagung am 05.10.2024 - Beginn 9:30</strong></p><p>-&nbsp;&nbsp;&n
 bsp;&nbsp;9:30 Eintreffen der Teilnehmer mit Begrüßungskaffee</p><p>-&nbsp;
 &nbsp;&nbsp;&nbsp;10:00 offizieller Start - Begrüßung und Start der Tagung<
 /p><p>-&nbsp;&nbsp;&nbsp;&nbsp;Kurzer Bericht des Rassebetreuers</p><p>-&nb
 sp;&nbsp;&nbsp;&nbsp;10:30 Vortrag<br />&nbsp; &nbsp; &nbsp;Was Sie schon i
 mmer über das neue Tierschutzgesetz wissen wollten<br />&nbsp; &nbsp; &nbsp
 ;Referentin: Miriam Schöttge – Fachtierärztin für öffentliches Veterinärwes
 en</p><p>-&nbsp;&nbsp;&nbsp;&nbsp;12:30 MITTAGSPAUSE</p><p>-&nbsp;&nbsp;&nb
 sp;&nbsp;13:30 Vortrag<br />&nbsp; &nbsp; &nbsp;Kastration&nbsp;&nbsp;Ja – 
 Nein- Vielleicht (Gedanken, Mythen und Fakten)<br />&nbsp; &nbsp; &nbsp;Ref
 erentin: Anja Eisfeld</p><p>-&nbsp;&nbsp;&nbsp;&nbsp;15:00 Erfahrungsaustau
 sch der Neuzüchter und Züchter</p><p>-&nbsp;&nbsp;&nbsp;&nbsp;Offene Frager
 unde rund um den Alltag als Züchter und andere Themen der Hundezucht, die u
 ns vielleicht beschäftigen.&nbsp;<br /><strong><br />(Gerne dürfen hier auc
 h im Vorfeld Fragen eingereicht werden, die wir gerne auch neutral besprech
 en können. Diese sendet Ihr dann bitte an <span id="cloak041e48f072df4019ab
 fb15f249b140e3">Diese E-Mail-Adresse ist vor Spambots geschützt! Zur Anzeig
 e muss JavaScript eingeschaltet sein!</span><script type='text/javascript'>
 
				document.getElementById('cloak041e48f072df4019abfb15f249b140e3').inner
 HTML = '';
				var prefix = '&#109;a' + 'i&#108;' + '&#116;o';
				var path
  = 'hr' + 'ef' + '=';
				var addy041e48f072df4019abfb15f249b140e3 = 'b&#11
 1;rd&#101;r' + '&#64;';
				addy041e48f072df4019abfb15f249b140e3 = addy041e
 48f072df4019abfb15f249b140e3 + 'cfbrh' + '&#46;' + 'd&#101;';
				var addy_
 text041e48f072df4019abfb15f249b140e3 = 'b&#111;rd&#101;r' + '&#64;' + 'cfbr
 h' + '&#46;' + 'd&#101;';document.getElementById('cloak041e48f072df4019abfb
 15f249b140e3').innerHTML += '<a ' + path + '\'' + prefix + ':' + addy041e48
 f072df4019abfb15f249b140e3 + '\'>'+addy_text041e48f072df4019abfb15f249b140e
 3+'<\/a>';
		</script>)</strong></p><p>&nbsp;-&nbsp;&nbsp;&nbsp;&nbsp;15:30
  Sonstiges</p><p>-&nbsp;&nbsp;&nbsp;&nbsp;ENDE voraussichtlich 16 Uhr</p><p
 >(Änderungen vorbehalten in Abhängigkeit von den Rückmeldungen bis zum Meld
 eschluss)</p>
DTSTAMP:20260420T101739
DTSTART;TZID=Europe/Berlin:20241005T093000
DTEND;TZID=Europe/Berlin:20241005T160000
SEQUENCE:0
TRANSP:OPAQUE
END:VEVENT
END:VCALENDAR