BEGIN:VCALENDAR
VERSION:2.0
PRODID:-//jEvents 2.0 for Joomla//EN
CALSCALE:GREGORIAN
METHOD:PUBLISH
BEGIN:VTIMEZONE
TZID:Europe/Berlin
BEGIN:STANDARD
DTSTART:20221124T100000
RDATE:20230326T030000
TZOFFSETFROM:+0200
TZOFFSETTO:+0100
TZNAME:Europe/Berlin CET
END:STANDARD
BEGIN:STANDARD
DTSTART:20231029T020000
RDATE:20240331T030000
TZOFFSETFROM:+0200
TZOFFSETTO:+0100
TZNAME:Europe/Berlin CET
END:STANDARD
BEGIN:STANDARD
DTSTART:20241027T020000
RDATE:20250330T030000
TZOFFSETFROM:+0200
TZOFFSETTO:+0100
TZNAME:Europe/Berlin CET
END:STANDARD
BEGIN:STANDARD
DTSTART:20251026T020000
RDATE:20260329T030000
TZOFFSETFROM:+0200
TZOFFSETTO:+0100
TZNAME:Europe/Berlin CET
END:STANDARD
BEGIN:STANDARD
DTSTART:20261025T020000
RDATE:20270328T030000
TZOFFSETFROM:+0200
TZOFFSETTO:+0100
TZNAME:Europe/Berlin CET
END:STANDARD
BEGIN:STANDARD
DTSTART:20271031T020000
RDATE:20280326T030000
TZOFFSETFROM:+0200
TZOFFSETTO:+0100
TZNAME:Europe/Berlin CET
END:STANDARD
BEGIN:STANDARD
DTSTART:20281029T020000
RDATE:20290325T030000
TZOFFSETFROM:+0200
TZOFFSETTO:+0100
TZNAME:Europe/Berlin CET
END:STANDARD
BEGIN:STANDARD
DTSTART:20291028T020000
RDATE:20300331T030000
TZOFFSETFROM:+0200
TZOFFSETTO:+0100
TZNAME:Europe/Berlin CET
END:STANDARD
BEGIN:STANDARD
DTSTART:20301027T020000
RDATE:20310330T030000
TZOFFSETFROM:+0200
TZOFFSETTO:+0100
TZNAME:Europe/Berlin CET
END:STANDARD
BEGIN:STANDARD
DTSTART:20311026T020000
RDATE:20320328T030000
TZOFFSETFROM:+0200
TZOFFSETTO:+0100
TZNAME:Europe/Berlin CET
END:STANDARD
BEGIN:DAYLIGHT
DTSTART:20230326T030000
RDATE:20231029T020000
TZOFFSETFROM:+0100
TZOFFSETTO:+0200
TZNAME:Europe/Berlin CEST
END:DAYLIGHT
BEGIN:DAYLIGHT
DTSTART:20240331T030000
RDATE:20241027T020000
TZOFFSETFROM:+0100
TZOFFSETTO:+0200
TZNAME:Europe/Berlin CEST
END:DAYLIGHT
BEGIN:DAYLIGHT
DTSTART:20250330T030000
RDATE:20251026T020000
TZOFFSETFROM:+0100
TZOFFSETTO:+0200
TZNAME:Europe/Berlin CEST
END:DAYLIGHT
BEGIN:DAYLIGHT
DTSTART:20260329T030000
RDATE:20261025T020000
TZOFFSETFROM:+0100
TZOFFSETTO:+0200
TZNAME:Europe/Berlin CEST
END:DAYLIGHT
BEGIN:DAYLIGHT
DTSTART:20270328T030000
RDATE:20271031T020000
TZOFFSETFROM:+0100
TZOFFSETTO:+0200
TZNAME:Europe/Berlin CEST
END:DAYLIGHT
BEGIN:DAYLIGHT
DTSTART:20280326T030000
RDATE:20281029T020000
TZOFFSETFROM:+0100
TZOFFSETTO:+0200
TZNAME:Europe/Berlin CEST
END:DAYLIGHT
BEGIN:DAYLIGHT
DTSTART:20290325T030000
RDATE:20291028T020000
TZOFFSETFROM:+0100
TZOFFSETTO:+0200
TZNAME:Europe/Berlin CEST
END:DAYLIGHT
BEGIN:DAYLIGHT
DTSTART:20300331T030000
RDATE:20301027T020000
TZOFFSETFROM:+0100
TZOFFSETTO:+0200
TZNAME:Europe/Berlin CEST
END:DAYLIGHT
BEGIN:DAYLIGHT
DTSTART:20310330T030000
RDATE:20311026T020000
TZOFFSETFROM:+0100
TZOFFSETTO:+0200
TZNAME:Europe/Berlin CEST
END:DAYLIGHT
END:VTIMEZONE
BEGIN:VEVENT
UID:656702590515a66721ebbd08e240df91
CATEGORIES:Züchtertagung
CREATED:20230921T171443
SUMMARY:Züchertagung Collie Kurzhaar
DESCRIPTION:Unsere diesjährige Züchtertagung findet am 25.11.2023 erneut im\nWaldhotel
  Schäferberg bei Kassel statt.\nTagesordnung\n10.00 Uhr Beginn, Eintreffen 
 der Teilnehmer\n10.15 Uhr Begrü.ung, Start der Tagung\n10.30 Uhr Vortrag v
 on Mag. Dr. A. Geretschläger und M. Geretschläger/ Autoimmunkrankheiten, Di
 versitätsscreening, DLA Gene und Array Typisierung\n12.00 Uhr Fragerunde\n1
 2:30 Uhr Mittagspause\n14.00 Uhr Anträge, Austausch und Diskussion\n16.00 U
 hr voraussichtliches Ende\n \nDie verbindliche Anmeldung erfolgt ausschließ
 lich über die Mailadresse Diese E-Mail-Adresse ist vor Spambots geschützt!
  Zur Anzeige muss JavaScript eingeschaltet sein!
				document.getElementByI
 d('cloak61225ebdda64be4af8439f4a09c12d79').innerHTML = '';
				var prefix =
  '&#109;a' + 'i&#108;' + '&#116;o';
				var path = 'hr' + 'ef' + '=';
				v
 ar addy61225ebdda64be4af8439f4a09c12d79 = 'c&#111;ll&#105;&#101;k&#117;rzh&
 #97;&#97;r' + '&#64;';
				addy61225ebdda64be4af8439f4a09c12d79 = addy61225
 ebdda64be4af8439f4a09c12d79 + 'cfbrh' + '&#46;' + 'd&#101;';
				var addy_t
 ext61225ebdda64be4af8439f4a09c12d79 = 'c&#111;ll&#105;&#101;k&#117;rzh&#97;
 &#97;r' + '&#64;' + 'cfbrh' + '&#46;' + 'd&#101;';document.getElementById('
 cloak61225ebdda64be4af8439f4a09c12d79').innerHTML += '<a ' + path + '\'' + 
 prefix + ':' + addy61225ebdda64be4af8439f4a09c12d79 + '\'>'+addy_text61225e
 bdda64be4af8439f4a09c12d79+'';
		 oder telefonisch unter 0176-31194343. Die
  Kontodaten werden nach Anmeldung per Mail übermittelt. Erst nach Zahlungs
 eingang erfolgt eine Bestätigung der Teilnahme per Mail - Gleiches gilt fü
 r Begleitpersonen. Das Mitbringen von Hunden zur Tagung ist nur in sehr ger
 inger Anzahl möglich. Ich möchte darum bitten, von dieser Option möglichst 
 keinen Gebrauch zu machen. Für die Teilnahme wird eine Tagungspauschale in
  Höhe von 35,50 Euro /pro Person erhoben. Die Tagungspauschale beinhaltet d
 ie Räumlichkeiten, Bereitstellung von Snacks, Kaffee, Kuchen und Kaltgeträn
 ken. Mittagessen gehen wir separat und so ist es nicht in der Tagungspausch
 ale enthalten.\nDer Zahlungseingang und somit die verbindliche Bestätigung 
 der Teilnahme muss bis zum 31.10.2023 erfolgt sein. Bitte berücksichtigt, 
 dass nach diesem Datum keine weiteren Anmeldungen, Stornierungen oder Koste
 nerstattungen möglich sind!\nHinweis: Übernachtungen sind im Vorfeld direkt
  beim Veranstalter zu reservieren.\nEinzelzimmer 89,00 Euro\nDoppelzimmer 1
 19,00 Euro\nHier steht ein begrenztes Kontingent bis zum 15.09.2023 unter d
 em Kennwort „Club für Britische Hütehunde“ zur Verfügung.\nWaldhotel Sch
 äferberg Kassel\nWilhelmsthaler Straße 14\n34314 Espenau bei Kassel\nTelefo
 n: 0 56 73 - 99 60\nEmail: Diese E-Mail-Adresse ist vor Spambots geschützt!
  Zur Anzeige muss JavaScript eingeschaltet sein!
				document.getElementByI
 d('cloak4380e310433bdafc55fc9a742b269c6b').innerHTML = '';
				var prefix =
  '&#109;a' + 'i&#108;' + '&#116;o';
				var path = 'hr' + 'ef' + '=';
				v
 ar addy4380e310433bdafc55fc9a742b269c6b = '&#105;nf&#111;' + '&#64;';
				a
 ddy4380e310433bdafc55fc9a742b269c6b = addy4380e310433bdafc55fc9a742b269c6b 
 + 'sch&#97;&#101;f&#101;rb&#101;rg' + '&#46;' + 'd&#101;';
				var addy_tex
 t4380e310433bdafc55fc9a742b269c6b = '&#105;nf&#111;' + '&#64;' + 'sch&#97;&
 #101;f&#101;rb&#101;rg' + '&#46;' + 'd&#101;';document.getElementById('cloa
 k4380e310433bdafc55fc9a742b269c6b').innerHTML += '<a ' + path + '\'' + pref
 ix + ':' + addy4380e310433bdafc55fc9a742b269c6b + '\'>'+addy_text4380e31043
 3bdafc55fc9a742b269c6b+'';
		\nEure Rassebetreuerin Claudia Bohne und Stell
 v. Mareike van Appen.\n
X-ALT-DESC;FMTTYPE=text/html:<p>Unsere diesjährige Züchtertagung findet am 25.11.2023 erneut im</p><p>W
 aldhotel Schäferberg bei Kassel statt.</p><p>Tagesordnung</p><p>10.00 Uhr B
 eginn, Eintreffen der Teilnehmer</p><p>10.15 Uhr Begrü.ung, Start der Tagu
 ng</p><p>10.30 Uhr Vortrag von Mag. Dr. A. Geretschläger und M. Geretschläg
 er/ Autoimmunkrankheiten, Diversitätsscreening, DLA Gene&nbsp;und Array Typ
 isierung</p><p>12.00 Uhr Fragerunde</p><p>12:30 Uhr Mittagspause</p><p>14.0
 0 Uhr Anträge, Austausch und Diskussion</p><p>16.00 Uhr voraussichtliches E
 nde</p><p>&nbsp;</p><p>Die verbindliche Anmeldung erfolgt ausschließlich ü
 ber die Mailadresse&nbsp;<span id="cloak61225ebdda64be4af8439f4a09c12d79">D
 iese E-Mail-Adresse ist vor Spambots geschützt! Zur Anzeige muss JavaScript
  eingeschaltet sein!</span><script type='text/javascript'>
				document.get
 ElementById('cloak61225ebdda64be4af8439f4a09c12d79').innerHTML = '';
				va
 r prefix = '&#109;a' + 'i&#108;' + '&#116;o';
				var path = 'hr' + 'ef' + 
 '=';
				var addy61225ebdda64be4af8439f4a09c12d79 = 'c&#111;ll&#105;&#101;k
 &#117;rzh&#97;&#97;r' + '&#64;';
				addy61225ebdda64be4af8439f4a09c12d79 =
  addy61225ebdda64be4af8439f4a09c12d79 + 'cfbrh' + '&#46;' + 'd&#101;';
				
 var addy_text61225ebdda64be4af8439f4a09c12d79 = 'c&#111;ll&#105;&#101;k&#11
 7;rzh&#97;&#97;r' + '&#64;' + 'cfbrh' + '&#46;' + 'd&#101;';document.getEle
 mentById('cloak61225ebdda64be4af8439f4a09c12d79').innerHTML += '<a ' + path
  + '\'' + prefix + ':' + addy61225ebdda64be4af8439f4a09c12d79 + '\'>'+addy_
 text61225ebdda64be4af8439f4a09c12d79+'<\/a>';
		</script> oder telefonisch 
 unter 0176-31194343. Die&nbsp;Kontodaten werden nach Anmeldung per Mail üb
 ermittelt. Erst nach&nbsp;Zahlungseingang erfolgt eine Bestätigung der Teil
 nahme per Mail -&nbsp;Gleiches gilt für Begleitpersonen. Das Mitbringen vo
 n Hunden zur Tagung&nbsp;ist nur in sehr geringer Anzahl möglich. Ich möcht
 e darum bitten, von&nbsp;dieser Option möglichst keinen Gebrauch zu machen.
  Für die Teilnahme&nbsp;wird eine Tagungspauschale in Höhe von 35,50 Euro 
 /pro Person erhoben.&nbsp;Die Tagungspauschale beinhaltet die Räumlichkeite
 n, Bereitstellung von&nbsp;Snacks, Kaffee, Kuchen und Kaltgetränken.&nbsp;M
 ittagessen gehen wir separat und so ist es nicht in der Tagungspauschale&nb
 sp;enthalten.</p><p>Der Zahlungseingang und somit die verbindliche Bestätig
 ung der&nbsp;Teilnahme muss bis zum 31.10.2023 erfolgt sein. Bitte berücks
 ichtigt,&nbsp;dass nach diesem Datum keine weiteren Anmeldungen, Stornierun
 gen&nbsp;oder Kostenerstattungen möglich sind!</p><p>Hinweis: Übernachtunge
 n sind im Vorfeld direkt beim Veranstalter zu&nbsp;reservieren.</p><p>Einze
 lzimmer 89,00 Euro</p><p>Doppelzimmer 119,00 Euro</p><p>Hier steht ein begr
 enztes Kontingent bis zum 15.09.2023 unter dem&nbsp;Kennwort „Club für Bri
 tische Hütehunde“ zur Verfügung.</p><p>Waldhotel Schäferberg Kassel</p><p
 >Wilhelmsthaler Straße 14</p><p>34314 Espenau bei Kassel</p><p>Telefon: 0 5
 6 73 - 99 60</p><p>Email: <span id="cloak4380e310433bdafc55fc9a742b269c6b">
 Diese E-Mail-Adresse ist vor Spambots geschützt! Zur Anzeige muss JavaScrip
 t eingeschaltet sein!</span><script type='text/javascript'>
				document.ge
 tElementById('cloak4380e310433bdafc55fc9a742b269c6b').innerHTML = '';
				v
 ar prefix = '&#109;a' + 'i&#108;' + '&#116;o';
				var path = 'hr' + 'ef' +
  '=';
				var addy4380e310433bdafc55fc9a742b269c6b = '&#105;nf&#111;' + '&#
 64;';
				addy4380e310433bdafc55fc9a742b269c6b = addy4380e310433bdafc55fc9a
 742b269c6b + 'sch&#97;&#101;f&#101;rb&#101;rg' + '&#46;' + 'd&#101;';
				v
 ar addy_text4380e310433bdafc55fc9a742b269c6b = '&#105;nf&#111;' + '&#64;' +
  'sch&#97;&#101;f&#101;rb&#101;rg' + '&#46;' + 'd&#101;';document.getElemen
 tById('cloak4380e310433bdafc55fc9a742b269c6b').innerHTML += '<a ' + path + 
 '\'' + prefix + ':' + addy4380e310433bdafc55fc9a742b269c6b + '\'>'+addy_tex
 t4380e310433bdafc55fc9a742b269c6b+'<\/a>';
		</script></p><p>Eure Rassebetr
 euerin Claudia Bohne und Stellv. Mareike van Appen.</p>
DTSTAMP:20260422T171537
DTSTART;TZID=Europe/Berlin:20231125T100000
DTEND;TZID=Europe/Berlin:20231125T160000
SEQUENCE:0
TRANSP:OPAQUE
END:VEVENT
END:VCALENDAR