BEGIN:VCALENDAR
VERSION:2.0
PRODID:-//jEvents 2.0 for Joomla//EN
CALSCALE:GREGORIAN
METHOD:PUBLISH
BEGIN:VTIMEZONE
TZID:Europe/Berlin
BEGIN:STANDARD
DTSTART:20221030T020000
RDATE:20230326T030000
TZOFFSETFROM:+0200
TZOFFSETTO:+0100
TZNAME:Europe/Berlin CET
END:STANDARD
BEGIN:STANDARD
DTSTART:20231029T020000
RDATE:20240331T030000
TZOFFSETFROM:+0200
TZOFFSETTO:+0100
TZNAME:Europe/Berlin CET
END:STANDARD
BEGIN:STANDARD
DTSTART:20241027T020000
RDATE:20250330T030000
TZOFFSETFROM:+0200
TZOFFSETTO:+0100
TZNAME:Europe/Berlin CET
END:STANDARD
BEGIN:STANDARD
DTSTART:20251026T020000
RDATE:20260329T030000
TZOFFSETFROM:+0200
TZOFFSETTO:+0100
TZNAME:Europe/Berlin CET
END:STANDARD
BEGIN:STANDARD
DTSTART:20261025T020000
RDATE:20270328T030000
TZOFFSETFROM:+0200
TZOFFSETTO:+0100
TZNAME:Europe/Berlin CET
END:STANDARD
BEGIN:STANDARD
DTSTART:20271031T020000
RDATE:20280326T030000
TZOFFSETFROM:+0200
TZOFFSETTO:+0100
TZNAME:Europe/Berlin CET
END:STANDARD
BEGIN:STANDARD
DTSTART:20281029T020000
RDATE:20290325T030000
TZOFFSETFROM:+0200
TZOFFSETTO:+0100
TZNAME:Europe/Berlin CET
END:STANDARD
BEGIN:STANDARD
DTSTART:20291028T020000
RDATE:20300331T030000
TZOFFSETFROM:+0200
TZOFFSETTO:+0100
TZNAME:Europe/Berlin CET
END:STANDARD
BEGIN:STANDARD
DTSTART:20301027T020000
RDATE:20310330T030000
TZOFFSETFROM:+0200
TZOFFSETTO:+0100
TZNAME:Europe/Berlin CET
END:STANDARD
BEGIN:STANDARD
DTSTART:20311026T020000
RDATE:20320328T030000
TZOFFSETFROM:+0200
TZOFFSETTO:+0100
TZNAME:Europe/Berlin CET
END:STANDARD
BEGIN:DAYLIGHT
DTSTART:20221006T110000
RDATE:20221030T020000
TZOFFSETFROM:+0100
TZOFFSETTO:+0200
TZNAME:Europe/Berlin CEST
END:DAYLIGHT
BEGIN:DAYLIGHT
DTSTART:20230326T030000
RDATE:20231029T020000
TZOFFSETFROM:+0100
TZOFFSETTO:+0200
TZNAME:Europe/Berlin CEST
END:DAYLIGHT
BEGIN:DAYLIGHT
DTSTART:20240331T030000
RDATE:20241027T020000
TZOFFSETFROM:+0100
TZOFFSETTO:+0200
TZNAME:Europe/Berlin CEST
END:DAYLIGHT
BEGIN:DAYLIGHT
DTSTART:20250330T030000
RDATE:20251026T020000
TZOFFSETFROM:+0100
TZOFFSETTO:+0200
TZNAME:Europe/Berlin CEST
END:DAYLIGHT
BEGIN:DAYLIGHT
DTSTART:20260329T030000
RDATE:20261025T020000
TZOFFSETFROM:+0100
TZOFFSETTO:+0200
TZNAME:Europe/Berlin CEST
END:DAYLIGHT
BEGIN:DAYLIGHT
DTSTART:20270328T030000
RDATE:20271031T020000
TZOFFSETFROM:+0100
TZOFFSETTO:+0200
TZNAME:Europe/Berlin CEST
END:DAYLIGHT
BEGIN:DAYLIGHT
DTSTART:20280326T030000
RDATE:20281029T020000
TZOFFSETFROM:+0100
TZOFFSETTO:+0200
TZNAME:Europe/Berlin CEST
END:DAYLIGHT
BEGIN:DAYLIGHT
DTSTART:20290325T030000
RDATE:20291028T020000
TZOFFSETFROM:+0100
TZOFFSETTO:+0200
TZNAME:Europe/Berlin CEST
END:DAYLIGHT
BEGIN:DAYLIGHT
DTSTART:20300331T030000
RDATE:20301027T020000
TZOFFSETFROM:+0100
TZOFFSETTO:+0200
TZNAME:Europe/Berlin CEST
END:DAYLIGHT
BEGIN:DAYLIGHT
DTSTART:20310330T030000
RDATE:20311026T020000
TZOFFSETFROM:+0100
TZOFFSETTO:+0200
TZNAME:Europe/Berlin CEST
END:DAYLIGHT
END:VTIMEZONE
BEGIN:VEVENT
UID:2c33c1c0d1ee8ef31553151d1b35283d
CATEGORIES:Züchtertagung
CREATED:20230725T153816
SUMMARY:Züchtertagung Bearded Collie
DESCRIPTION:Liebe Bearded Collie Züchter und Besitzer,\nHiermit möchte ich Sie recht h
 erzlich zu unserer diesjährigen Züchtertagung am Samstag, den 07.10.23 ein
 laden.\nIn diesem Jahr wird die Züchtertagung bei mir in Elgersburg, Arnst
 ädter Str. 3 statt finden.\n \nTagesordnung\nOrt: 98716 Elgersburg, Arnstäd
 ter Str.3\nBeginn: 11.00 Uhr\nTop 1: Begrü.ung\nTop 2: Bearded Collie Zuch
 t – wo stehen wir mit unserer Zucht, Zuchstrategien und wo wollen wir hin /
  Referent Frau Vera Bochdalosky\nTop 3: Mittagspause\nTop 4: Rassestandard,
  Pflege und Präsentation im Ring unserer Beardies\nTop 5. Behandlung von ei
 ngegangen Anträgen\nTop 6: Sonstiges\nvoraussichtliches Ende der Züchterta
 gung ist gegen 17.00Uhr geplant\n \nBei der Züchtertagung würden wir uns 
 freuen, wenn Ihr auch tatkräftig bei allen Punkten mitredet und jeder seine
  Ideen und Erfahrungen mit einbringt, denn es gibt bekanntliche viele Wege 
 die zum Erfolg führen, warum nicht unsere Erfahrungen austauschen und dadu
 rch unsere Rasse und unseren Zusammenhalt stärken. Dies hoffe ich auch mit 
 dem Ort und der Art der Züchtertagung zu schaffen.\nAnträge an die Züchte
 rtagung bitte bis 15.09.23\nFür Übernachtungen gibt es ein Hotel oder eine
  Waldgaststätte wo jeder selbstständig sein Zimmer buchen kann. Wer Camping
  mag, für den gibt es in der näheren Umgebung 2 schöne Campingplätze, wo m
 an buchen kann. Für Fragen hierzu stehe ich gern zur Verfügung.\nEine ver
 bindliche Anmeldung bis 30.09.23 ist diesmal zwingend notwendig, da die Ver
 sorgung von mir und meinem Mann übernommen wird und diese geplant werde mu
 ß. Wir haben vor, zum Mittag ein Thüringer Grillbuffett mit original Thür
 inger Bratwurst und Rostbräteln ( Steaks) zu organisieren, dafür benötigen
  wir die Anzahl der Leute. Wer Vegetarier ist, bitte dies mit bei der Anmel
 dung vermerken. Auch ist für Getränke und kleine Snacks für zwischen durc
 h gesorgt. Und dies alles zum Selbskostenpreis ;-)\n \nAnmeldung bitte per 
 Mail an:  (mailto:bearded@cfbrh.de)Diese E-Mail-Adresse ist vor Spambots ge
 schützt! Zur Anzeige muss JavaScript eingeschaltet sein!
				document.getEl
 ementById('cloaka92a52990564a0e8e2c96ea46109e3a7').innerHTML = '';
				var 
 prefix = '&#109;a' + 'i&#108;' + '&#116;o';
				var path = 'hr' + 'ef' + '=
 ';
				var addya92a52990564a0e8e2c96ea46109e3a7 = 'b&#101;&#97;rd&#101;d' +
  '&#64;';
				addya92a52990564a0e8e2c96ea46109e3a7 = addya92a52990564a0e8e2
 c96ea46109e3a7 + 'cfbrh' + '&#46;' + 'd&#101;';
				var addy_texta92a529905
 64a0e8e2c96ea46109e3a7 = 'b&#101;&#97;rd&#101;d' + '&#64;' + 'cfbrh' + '&#4
 6;' + 'd&#101;';document.getElementById('cloaka92a52990564a0e8e2c96ea46109e
 3a7').innerHTML += '<a ' + path + '\'' + prefix + ':' + addya92a52990564a0e
 8e2c96ea46109e3a7 + '\'>'+addy_texta92a52990564a0e8e2c96ea46109e3a7+'';
		\
 n \nIhre Rassebetreuer Annett Zink und Margit Denter\n
X-ALT-DESC;FMTTYPE=text/html:<p>Liebe Bearded Collie Züchter und Besitzer,</p><p>Hiermit möchte ich Sie
  recht herzlich zu unserer diesjährigen Züchtertagung am Samstag, den&nbsp
 ;07.10.23 einladen.</p><p>In diesem Jahr wird die Züchtertagung bei mir in
  Elgersburg, Arnstädter Str. 3 statt finden.</p><p>&nbsp;</p><p><strong>Tag
 esordnung</strong></p><p>Ort: 98716 Elgersburg, Arnstädter Str.3</p><p>Begi
 nn: 11.00 Uhr</p><p>Top 1: Begrü.ung</p><p>Top 2: Bearded Collie Zucht – w
 o stehen wir mit unserer Zucht, Zuchstrategien und wo wollen wir hin / Refe
 rent Frau Vera Bochdalosky</p><p>Top 3: Mittagspause</p><p>Top 4: Rassestan
 dard, Pflege und Präsentation im Ring unserer Beardies</p><p>Top 5. Behandl
 ung von eingegangen Anträgen</p><p>Top 6: Sonstiges</p><p>voraussichtliches
  Ende der Züchtertagung ist gegen 17.00Uhr geplant</p><p>&nbsp;</p><p>Bei 
 der Züchtertagung würden wir uns freuen, wenn Ihr auch tatkräftig bei all
 en Punkten mitredet&nbsp;und jeder seine Ideen und Erfahrungen mit einbring
 t, denn es gibt bekanntliche viele Wege die zum&nbsp;Erfolg führen, warum 
 nicht unsere Erfahrungen austauschen und dadurch unsere Rasse und unseren&n
 bsp;Zusammenhalt stärken. Dies hoffe ich auch mit dem Ort und der Art der Z
 üchtertagung zu schaffen.</p><p><strong>Anträge an die Züchtertagung bitt
 e bis 15.09.23</strong></p><p>Für Übernachtungen gibt es ein Hotel oder ei
 ne Waldgaststätte wo jeder selbstständig sein Zimmer&nbsp;buchen kann. Wer 
 Camping mag, für den gibt es in der näheren Umgebung 2 schöne&nbsp;Camping
 plätze, wo man buchen kann. Für Fragen hierzu stehe ich gern zur Verfügun
 g.</p><p><strong>Eine verbindliche Anmeldung bis 30.09.23 ist diesmal zwing
 end notwendig</strong>, da die Versorgung von&nbsp;mir und meinem Mann übe
 rnommen wird und diese geplant werde muß. Wir haben vor, zum Mittag&nbsp;ei
 n Thüringer Grillbuffett mit original Thüringer Bratwurst und Rostbräteln
  ( Steaks) zu&nbsp;organisieren, dafür benötigen wir die Anzahl der Leute.
  Wer Vegetarier ist, bitte dies mit bei der&nbsp;Anmeldung vermerken. Auch 
 ist für Getränke und kleine Snacks für zwischen durch gesorgt. Und&nbsp;d
 ies alles zum Selbskostenpreis ;-)</p><p>&nbsp;</p><p><strong>Anmeldung bit
 te per Mail an:&nbsp;<a href="mailto:bearded@cfbrh.de"></a><span id="cloaka
 92a52990564a0e8e2c96ea46109e3a7">Diese E-Mail-Adresse ist vor Spambots gesc
 hützt! Zur Anzeige muss JavaScript eingeschaltet sein!</span><script type='
 text/javascript'>
				document.getElementById('cloaka92a52990564a0e8e2c96ea
 46109e3a7').innerHTML = '';
				var prefix = '&#109;a' + 'i&#108;' + '&#116
 ;o';
				var path = 'hr' + 'ef' + '=';
				var addya92a52990564a0e8e2c96ea4
 6109e3a7 = 'b&#101;&#97;rd&#101;d' + '&#64;';
				addya92a52990564a0e8e2c96
 ea46109e3a7 = addya92a52990564a0e8e2c96ea46109e3a7 + 'cfbrh' + '&#46;' + 'd
 &#101;';
				var addy_texta92a52990564a0e8e2c96ea46109e3a7 = 'b&#101;&#97;r
 d&#101;d' + '&#64;' + 'cfbrh' + '&#46;' + 'd&#101;';document.getElementById
 ('cloaka92a52990564a0e8e2c96ea46109e3a7').innerHTML += '<a ' + path + '\'' 
 + prefix + ':' + addya92a52990564a0e8e2c96ea46109e3a7 + '\'>'+addy_texta92a
 52990564a0e8e2c96ea46109e3a7+'<\/a>';
		</script></strong></p><p><strong>&n
 bsp;</strong></p><p>Ihre Rassebetreuer Annett Zink und Margit Denter</p>
DTSTAMP:20260422T144945
DTSTART;TZID=Europe/Berlin:20231007T110000
DTEND;TZID=Europe/Berlin:20231007T170000
SEQUENCE:0
TRANSP:OPAQUE
END:VEVENT
END:VCALENDAR